Package: scrapper Version: 1.2.1 Command: /home/biocbuild/R/R/bin/R CMD build --keep-empty-dirs --no-resave-data scrapper StartedAt: 2025-10-14 04:30:59 -0000 (Tue, 14 Oct 2025) EndedAt: 2025-10-14 04:44:03 -0000 (Tue, 14 Oct 2025) EllapsedTime: 784.5 seconds RetCode: 0 Status: OK PackageFile: scrapper_1.2.1.tar.gz PackageFileSize: 890.6 KiB