Package: scrapper Version: 1.2.0 Command: /Library/Frameworks/R.framework/Resources/bin/R CMD build --keep-empty-dirs --no-resave-data scrapper StartedAt: 2025-04-21 17:35:40 -0400 (Mon, 21 Apr 2025) EndedAt: 2025-04-21 17:38:36 -0400 (Mon, 21 Apr 2025) EllapsedTime: 176.0 seconds RetCode: 0 Status: OK PackageFile: scrapper_1.2.0.tar.gz PackageFileSize: 1.051 MiB