Package: scran Version: 1.38.0 Command: /home/biocbuild/R/R/bin/R CMD build --keep-empty-dirs --no-resave-data scran StartedAt: 2025-11-11 04:59:40 -0000 (Tue, 11 Nov 2025) EndedAt: 2025-11-11 05:04:05 -0000 (Tue, 11 Nov 2025) EllapsedTime: 265.1 seconds RetCode: 0 Status: OK PackageFile: scran_1.38.0.tar.gz PackageFileSize: 1.242 MiB