Package: scran Version: 1.36.0 Command: /home/biocbuild/bbs-3.21-bioc/R/bin/R CMD INSTALL scran StartedAt: 2025-09-28 16:05:43 -0400 (Sun, 28 Sep 2025) EndedAt: 2025-09-28 16:06:58 -0400 (Sun, 28 Sep 2025) EllapsedTime: 74.8 seconds RetCode: 0 Status: OK