Package: scran Version: 1.36.0 Command: /home/biocbuild/bbs-3.21-bioc/R/bin/R CMD build --keep-empty-dirs --no-resave-data scran StartedAt: 2025-09-28 19:58:34 -0400 (Sun, 28 Sep 2025) EndedAt: 2025-09-28 20:01:52 -0400 (Sun, 28 Sep 2025) EllapsedTime: 198.1 seconds RetCode: 0 Status: OK PackageFile: scran_1.36.0.tar.gz PackageFileSize: 1.743 MiB