Package: scran Version: 1.36.0 Command: /Library/Frameworks/R.framework/Resources/bin/R CMD INSTALL scran StartedAt: 2025-09-29 16:31:27 -0400 (Mon, 29 Sep 2025) EndedAt: 2025-09-29 16:34:06 -0400 (Mon, 29 Sep 2025) EllapsedTime: 159.5 seconds RetCode: 0 Status: OK