Package: scran Version: 1.36.0 Command: /Library/Frameworks/R.framework/Resources/bin/R CMD INSTALL scran StartedAt: 2025-09-25 18:11:43 -0400 (Thu, 25 Sep 2025) EndedAt: 2025-09-25 18:12:57 -0400 (Thu, 25 Sep 2025) EllapsedTime: 74.3 seconds RetCode: 0 Status: OK