Package: scran Version: 1.36.0 Command: /Library/Frameworks/R.framework/Resources/bin/R CMD build --keep-empty-dirs --no-resave-data scran StartedAt: 2025-09-26 08:46:07 -0400 (Fri, 26 Sep 2025) EndedAt: 2025-09-26 08:50:02 -0400 (Fri, 26 Sep 2025) EllapsedTime: 234.9 seconds RetCode: 0 Status: OK PackageFile: scran_1.36.0.tar.gz PackageFileSize: 1.837 MiB