Package: scran Version: 1.36.0 Command: rm -rf scran.buildbin-libdir && mkdir scran.buildbin-libdir && /Users/biocbuild/BBS/utils/build-universal.sh scran_1.36.0.tar.gz /Library/Frameworks/R.framework/Resources/bin/R scran.buildbin-libdir StartedAt: 2025-09-27 19:24:31 -0400 (Sat, 27 Sep 2025) EndedAt: 2025-09-27 19:25:53 -0400 (Sat, 27 Sep 2025) EllapsedTime: 81.5 seconds RetCode: 0 Status: OK PackageFile: scran_1.36.0.tgz PackageFileSize: 2.304 MiB