Package: scp Version: 1.20.0 Command: /home/biocbuild/R/R/bin/R CMD build --keep-empty-dirs --no-resave-data scp StartedAt: 2025-11-14 05:11:32 -0000 (Fri, 14 Nov 2025) EndedAt: 2025-11-14 05:17:12 -0000 (Fri, 14 Nov 2025) EllapsedTime: 340.2 seconds RetCode: 0 Status: OK PackageFile: scp_1.20.0.tar.gz PackageFileSize: 7.337 MiB