Package: scp Version: 1.20.0 Command: /home/biocbuild/bbs-3.22-bioc/R/bin/R CMD INSTALL scp StartedAt: 2025-11-11 15:39:33 -0500 (Tue, 11 Nov 2025) EndedAt: 2025-11-11 15:40:03 -0500 (Tue, 11 Nov 2025) EllapsedTime: 30.4 seconds RetCode: 0 Status: OK