Package: scp Version: 1.20.0 Command: /home/biocbuild/bbs-3.22-bioc/R/bin/R CMD check --install=check:scp.install-out.txt --library=/home/biocbuild/bbs-3.22-bioc/R/site-library --timings scp_1.20.0.tar.gz StartedAt: 2025-11-12 03:54:27 -0500 (Wed, 12 Nov 2025) EndedAt: 2025-11-12 04:07:39 -0500 (Wed, 12 Nov 2025) EllapsedTime: 792.7 seconds RetCode: 0 Status: WARNINGS CheckDir: scp.Rcheck Warnings: 1