Package: scp Version: 1.20.0 Command: /home/biocbuild/bbs-3.22-bioc/R/bin/R CMD build --keep-empty-dirs --no-resave-data --md5 scp StartedAt: 2025-11-11 20:04:31 -0500 (Tue, 11 Nov 2025) EndedAt: 2025-11-11 20:08:21 -0500 (Tue, 11 Nov 2025) EllapsedTime: 230.1 seconds RetCode: 0 Status: OK PackageFile: scp_1.20.0.tar.gz PackageFileSize: 8.51 MiB