Package: scp Version: 1.18.0 Command: /Library/Frameworks/R.framework/Resources/bin/R CMD build --keep-empty-dirs --no-resave-data scp StartedAt: 2025-10-13 22:26:11 -0400 (Mon, 13 Oct 2025) EndedAt: 2025-10-13 22:37:43 -0400 (Mon, 13 Oct 2025) EllapsedTime: 692.4 seconds RetCode: 0 Status: OK PackageFile: scp_1.18.0.tar.gz PackageFileSize: 8.843 MiB