Package: scp Version: 1.18.0 Command: rm -rf scp.buildbin-libdir && mkdir scp.buildbin-libdir && /Users/biocbuild/BBS/utils/build-universal.sh scp_1.18.0.tar.gz /Library/Frameworks/R.framework/Resources/bin/R scp.buildbin-libdir StartedAt: 2025-10-14 14:44:00 -0400 (Tue, 14 Oct 2025) EndedAt: 2025-10-14 14:45:32 -0400 (Tue, 14 Oct 2025) EllapsedTime: 92.2 seconds RetCode: 0 Status: OK PackageFile: scp_1.18.0.tgz PackageFileSize: 7.129 MiB