Package: scoup Version: 1.4.0 Command: /home/biocbuild/bbs-3.22-bioc/R/bin/R CMD INSTALL scoup StartedAt: 2025-11-11 15:19:29 -0500 (Tue, 11 Nov 2025) EndedAt: 2025-11-11 15:19:42 -0500 (Tue, 11 Nov 2025) EllapsedTime: 13.3 seconds RetCode: 0 Status: OK