Package: scoup Version: 1.4.0 Command: /home/biocbuild/bbs-3.22-bioc/R/bin/R CMD check --install=check:scoup.install-out.txt --library=/home/biocbuild/bbs-3.22-bioc/R/site-library --timings scoup_1.4.0.tar.gz StartedAt: 2025-11-12 03:54:25 -0500 (Wed, 12 Nov 2025) EndedAt: 2025-11-12 03:57:01 -0500 (Wed, 12 Nov 2025) EllapsedTime: 156.1 seconds RetCode: 0 Status: OK CheckDir: scoup.Rcheck Warnings: 0