Package: scoup Version: 1.2.0 Command: /home/biocbuild/bbs-3.21-bioc/R/bin/R CMD build --keep-empty-dirs --no-resave-data scoup StartedAt: 2025-10-15 19:46:00 -0400 (Wed, 15 Oct 2025) EndedAt: 2025-10-15 19:46:21 -0400 (Wed, 15 Oct 2025) EllapsedTime: 21.0 seconds RetCode: 0 Status: OK PackageFile: scoup_1.2.0.tar.gz PackageFileSize: 334.3 KiB