Package: scoup Version: 1.2.0 Command: /home/biocbuild/R/R/bin/R CMD INSTALL scoup StartedAt: 2025-09-25 20:28:20 -0000 (Thu, 25 Sep 2025) EndedAt: 2025-09-25 20:28:39 -0000 (Thu, 25 Sep 2025) EllapsedTime: 19.0 seconds RetCode: 0 Status: OK