Package: scoup Version: 1.2.0 Command: rm -rf scoup.buildbin-libdir && mkdir scoup.buildbin-libdir && /Users/biocbuild/BBS/utils/build-universal.sh scoup_1.2.0.tar.gz /Library/Frameworks/R.framework/Resources/bin/R scoup.buildbin-libdir StartedAt: 2025-04-21 22:51:34 -0400 (Mon, 21 Apr 2025) EndedAt: 2025-04-21 22:51:40 -0400 (Mon, 21 Apr 2025) EllapsedTime: 6.1 seconds RetCode: 0 Status: OK PackageFile: scoup_1.2.0.tgz PackageFileSize: 630.2 KiB