Package: scoup Version: 1.2.0 Command: /Library/Frameworks/R.framework/Resources/bin/R CMD build --keep-empty-dirs --no-resave-data scoup StartedAt: 2025-10-14 08:52:45 -0400 (Tue, 14 Oct 2025) EndedAt: 2025-10-14 08:53:12 -0400 (Tue, 14 Oct 2025) EllapsedTime: 27.2 seconds RetCode: 0 Status: OK PackageFile: scoup_1.2.0.tar.gz PackageFileSize: 334.4 KiB