Package: scoreInvHap Version: 1.32.0 Command: /home/biocbuild/bbs-3.22-bioc/R/bin/R CMD build --keep-empty-dirs --no-resave-data --md5 scoreInvHap StartedAt: 2025-11-11 20:04:14 -0500 (Tue, 11 Nov 2025) EndedAt: 2025-11-11 20:05:12 -0500 (Tue, 11 Nov 2025) EllapsedTime: 58.0 seconds RetCode: 0 Status: OK PackageFile: scoreInvHap_1.32.0.tar.gz PackageFileSize: 1.075 MiB