Package: scoreInvHap Version: 1.32.0 Command: /Library/Frameworks/R.framework/Resources/bin/R CMD INSTALL scoreInvHap StartedAt: 2025-11-10 15:21:05 -0500 (Mon, 10 Nov 2025) EndedAt: 2025-11-10 15:21:23 -0500 (Mon, 10 Nov 2025) EllapsedTime: 17.5 seconds RetCode: 0 Status: OK