Package: scone Version: 1.32.1 Command: /home/biocbuild/R/R/bin/R CMD build --keep-empty-dirs --no-resave-data scone StartedAt: 2025-10-14 04:29:26 -0000 (Tue, 14 Oct 2025) EndedAt: 2025-10-14 04:32:58 -0000 (Tue, 14 Oct 2025) EllapsedTime: 212.1 seconds RetCode: 0 Status: OK PackageFile: scone_1.32.1.tar.gz PackageFileSize: 1.746 MiB