Package: scone Version: 1.34.0 Command: /Library/Frameworks/R.framework/Resources/bin/R CMD INSTALL scone StartedAt: 2025-11-10 15:28:10 -0500 (Mon, 10 Nov 2025) EndedAt: 2025-11-10 15:28:32 -0500 (Mon, 10 Nov 2025) EllapsedTime: 22.2 seconds RetCode: 0 Status: OK