Package: scone Version: 1.34.0 Command: /Library/Frameworks/R.framework/Resources/bin/R CMD build --keep-empty-dirs --no-resave-data scone StartedAt: 2025-11-10 17:40:30 -0500 (Mon, 10 Nov 2025) EndedAt: 2025-11-10 17:41:34 -0500 (Mon, 10 Nov 2025) EllapsedTime: 63.7 seconds RetCode: 0 Status: OK PackageFile: scone_1.34.0.tar.gz PackageFileSize: 1.867 MiB