Package: scmeth Version: 1.30.0 Command: /home/biocbuild/R/R/bin/R CMD build --keep-empty-dirs --no-resave-data scmeth StartedAt: 2025-11-11 04:57:02 -0000 (Tue, 11 Nov 2025) EndedAt: 2025-11-11 04:59:04 -0000 (Tue, 11 Nov 2025) EllapsedTime: 122.1 seconds RetCode: 0 Status: OK PackageFile: scmeth_1.30.0.tar.gz PackageFileSize: 794 KiB