Package: scmeth Version: 1.30.0 Command: /home/biocbuild/bbs-3.22-bioc/R/bin/R CMD check --install=check:scmeth.install-out.txt --library=/home/biocbuild/bbs-3.22-bioc/R/site-library --timings scmeth_1.30.0.tar.gz StartedAt: 2025-11-12 03:52:23 -0500 (Wed, 12 Nov 2025) EndedAt: 2025-11-12 03:59:31 -0500 (Wed, 12 Nov 2025) EllapsedTime: 428.3 seconds RetCode: 0 Status: OK CheckDir: scmeth.Rcheck Warnings: 0