Package: scmeth Version: 1.30.0 Command: /home/biocbuild/bbs-3.22-bioc/R/bin/R CMD build --keep-empty-dirs --no-resave-data --md5 scmeth StartedAt: 2025-11-11 20:03:12 -0500 (Tue, 11 Nov 2025) EndedAt: 2025-11-11 20:04:37 -0500 (Tue, 11 Nov 2025) EllapsedTime: 85.1 seconds RetCode: 0 Status: OK PackageFile: scmeth_1.30.0.tar.gz PackageFileSize: 770.6 KiB