Package: scmeth Version: 1.28.0 Command: /home/biocbuild/bbs-3.21-bioc/R/bin/R CMD INSTALL scmeth StartedAt: 2025-09-28 15:57:29 -0400 (Sun, 28 Sep 2025) EndedAt: 2025-09-28 15:58:15 -0400 (Sun, 28 Sep 2025) EllapsedTime: 45.8 seconds RetCode: 0 Status: OK