Package: scmeth Version: 1.28.0 Command: /Library/Frameworks/R.framework/Resources/bin/R CMD INSTALL scmeth StartedAt: 2025-10-06 16:10:58 -0400 (Mon, 06 Oct 2025) EndedAt: 2025-10-06 16:12:35 -0400 (Mon, 06 Oct 2025) EllapsedTime: 96.5 seconds RetCode: 0 Status: OK