Package: scmeth Version: 1.28.0 Command: /Library/Frameworks/R.framework/Resources/bin/R CMD INSTALL scmeth StartedAt: 2025-09-25 17:23:44 -0400 (Thu, 25 Sep 2025) EndedAt: 2025-09-25 17:24:40 -0400 (Thu, 25 Sep 2025) EllapsedTime: 56.2 seconds RetCode: 0 Status: OK