Package: scmeth Version: 1.28.0 Command: rm -rf scmeth.buildbin-libdir && mkdir scmeth.buildbin-libdir && /Users/biocbuild/BBS/utils/build-universal.sh scmeth_1.28.0.tar.gz /Library/Frameworks/R.framework/Resources/bin/R scmeth.buildbin-libdir StartedAt: 2025-09-27 19:22:45 -0400 (Sat, 27 Sep 2025) EndedAt: 2025-09-27 19:23:46 -0400 (Sat, 27 Sep 2025) EllapsedTime: 60.7 seconds RetCode: 0 Status: OK PackageFile: scmeth_1.28.0.tgz PackageFileSize: 823.7 KiB