Package: scmap Version: 1.32.0 Command: /home/biocbuild/bbs-3.22-bioc/R/bin/R CMD INSTALL scmap StartedAt: 2025-11-11 15:37:16 -0500 (Tue, 11 Nov 2025) EndedAt: 2025-11-11 15:37:56 -0500 (Tue, 11 Nov 2025) EllapsedTime: 40.0 seconds RetCode: 0 Status: OK