Package: scmap Version: 1.32.0 Command: /home/biocbuild/bbs-3.22-bioc/R/bin/R CMD check --install=check:scmap.install-out.txt --library=/home/biocbuild/bbs-3.22-bioc/R/site-library --timings scmap_1.32.0.tar.gz StartedAt: 2025-11-12 03:50:55 -0500 (Wed, 12 Nov 2025) EndedAt: 2025-11-12 03:54:12 -0500 (Wed, 12 Nov 2025) EllapsedTime: 197.1 seconds RetCode: 0 Status: OK CheckDir: scmap.Rcheck Warnings: 0