Package: scmap Version: 1.30.0 Command: /home/biocbuild/bbs-3.21-bioc/R/bin/R CMD INSTALL scmap StartedAt: 2025-10-15 15:32:13 -0400 (Wed, 15 Oct 2025) EndedAt: 2025-10-15 15:32:52 -0400 (Wed, 15 Oct 2025) EllapsedTime: 39.2 seconds RetCode: 0 Status: OK