Package: scmap Version: 1.30.0 Command: rm -rf scmap.buildbin-libdir && mkdir scmap.buildbin-libdir && /Users/biocbuild/BBS/utils/build-universal.sh scmap_1.30.0.tar.gz /Library/Frameworks/R.framework/Resources/bin/R scmap.buildbin-libdir StartedAt: 2025-04-22 01:07:32 -0400 (Tue, 22 Apr 2025) EndedAt: 2025-04-22 01:08:27 -0400 (Tue, 22 Apr 2025) EllapsedTime: 55.5 seconds RetCode: 0 Status: OK PackageFile: scmap_1.30.0.tgz PackageFileSize: 3.37 MiB