Package: scmap Version: 1.30.0 Command: /home/biocbuild/R/R/bin/R CMD build --keep-empty-dirs --no-resave-data scmap StartedAt: 2025-09-26 05:44:57 -0000 (Fri, 26 Sep 2025) EndedAt: 2025-09-26 05:46:16 -0000 (Fri, 26 Sep 2025) EllapsedTime: 79.0 seconds RetCode: 0 Status: OK PackageFile: scmap_1.30.0.tar.gz PackageFileSize: 2.24 MiB