Package: scmap Version: 1.30.0 Command: /Library/Frameworks/R.framework/Resources/bin/R CMD INSTALL scmap StartedAt: 2025-10-13 16:56:13 -0400 (Mon, 13 Oct 2025) EndedAt: 2025-10-13 16:56:56 -0400 (Mon, 13 Oct 2025) EllapsedTime: 43.0 seconds RetCode: 0 Status: OK