Package: scmap Version: 1.30.0 Command: /Library/Frameworks/R.framework/Resources/bin/R CMD build --keep-empty-dirs --no-resave-data scmap StartedAt: 2025-10-14 08:47:29 -0400 (Tue, 14 Oct 2025) EndedAt: 2025-10-14 08:48:35 -0400 (Tue, 14 Oct 2025) EllapsedTime: 66.2 seconds RetCode: 0 Status: OK PackageFile: scmap_1.30.0.tar.gz PackageFileSize: 2.25 MiB