Package: scmap Version: 1.30.0 Command: rm -rf scmap.buildbin-libdir && mkdir scmap.buildbin-libdir && /Users/biocbuild/BBS/utils/build-universal.sh scmap_1.30.0.tar.gz /Library/Frameworks/R.framework/Resources/bin/R scmap.buildbin-libdir StartedAt: 2025-10-15 20:22:53 -0400 (Wed, 15 Oct 2025) EndedAt: 2025-10-15 20:23:42 -0400 (Wed, 15 Oct 2025) EllapsedTime: 48.6 seconds RetCode: 0 Status: OK PackageFile: scmap_1.30.0.tgz PackageFileSize: 3.366 MiB