Package: scmap Version: 1.32.0 Maintainer: Vladimir Kiselev MaintainerEmail: vladimir.yu.kiselev at gmail.com git_url: https://git.bioconductor.org/packages/scmap git_branch: RELEASE_3_22 git_last_commit: 8fee1fc git_last_commit_date: 2025-10-29 10:39:19 -0400 (Wed, 29 Oct 2025)