Package: scifer Version: 1.12.0 Command: /home/biocbuild/bbs-3.22-bioc/R/bin/R CMD INSTALL scifer StartedAt: 2025-11-11 15:55:41 -0500 (Tue, 11 Nov 2025) EndedAt: 2025-11-11 15:55:57 -0500 (Tue, 11 Nov 2025) EllapsedTime: 16.6 seconds RetCode: 0 Status: OK