Package: scider Version: 1.8.0 Command: /home/biocbuild/bbs-3.22-bioc/R/bin/R CMD INSTALL scider StartedAt: 2025-11-11 15:24:20 -0500 (Tue, 11 Nov 2025) EndedAt: 2025-11-11 15:24:53 -0500 (Tue, 11 Nov 2025) EllapsedTime: 32.5 seconds RetCode: 0 Status: OK