Package: scider Version: 1.8.0 Command: /home/biocbuild/bbs-3.22-bioc/R/bin/R CMD check --install=check:scider.install-out.txt --library=/home/biocbuild/bbs-3.22-bioc/R/site-library --timings scider_1.8.0.tar.gz StartedAt: 2025-11-15 04:04:37 -0500 (Sat, 15 Nov 2025) EndedAt: 2025-11-15 04:10:53 -0500 (Sat, 15 Nov 2025) EllapsedTime: 375.3 seconds RetCode: 0 Status: OK CheckDir: scider.Rcheck Warnings: 0