Package: scider Version: 1.8.0 Command: /home/biocbuild/bbs-3.22-bioc/R/bin/R CMD build --keep-empty-dirs --no-resave-data --md5 scider StartedAt: 2025-11-11 20:02:27 -0500 (Tue, 11 Nov 2025) EndedAt: 2025-11-11 20:03:23 -0500 (Tue, 11 Nov 2025) EllapsedTime: 56.0 seconds RetCode: 0 Status: OK PackageFile: scider_1.8.0.tar.gz PackageFileSize: 2.335 MiB