Package: scider Version: 1.8.0 Command: /Library/Frameworks/R.framework/Resources/bin/R CMD build --keep-empty-dirs --no-resave-data scider StartedAt: 2025-11-03 18:39:41 -0500 (Mon, 03 Nov 2025) EndedAt: 2025-11-03 18:41:14 -0500 (Mon, 03 Nov 2025) EllapsedTime: 93.1 seconds RetCode: 0 Status: OK PackageFile: scider_1.8.0.tar.gz PackageFileSize: 3.181 MiB