Package: scider Version: 1.6.0 Command: /home/biocbuild/R/R/bin/R CMD INSTALL scider StartedAt: 2025-10-13 20:33:27 -0000 (Mon, 13 Oct 2025) EndedAt: 2025-10-13 20:34:08 -0000 (Mon, 13 Oct 2025) EllapsedTime: 41.4 seconds RetCode: 0 Status: OK