Package: scider Version: 1.6.0 Command: /home/biocbuild/R/R/bin/R CMD build --keep-empty-dirs --no-resave-data scider StartedAt: 2025-10-10 04:22:19 -0000 (Fri, 10 Oct 2025) EndedAt: 2025-10-10 04:24:04 -0000 (Fri, 10 Oct 2025) EllapsedTime: 105.0 seconds RetCode: 0 Status: OK PackageFile: scider_1.6.0.tar.gz PackageFileSize: 2.205 MiB