Package: scider Version: 1.6.0 Command: /Library/Frameworks/R.framework/Resources/bin/R CMD build --keep-empty-dirs --no-resave-data scider StartedAt: 2025-04-21 17:34:11 -0400 (Mon, 21 Apr 2025) EndedAt: 2025-04-21 17:34:43 -0400 (Mon, 21 Apr 2025) EllapsedTime: 31.3 seconds RetCode: 0 Status: OK PackageFile: scider_1.6.0.tar.gz PackageFileSize: 2.842 MiB